Workbook

Sheet Zentrale
A1: Nimm Auvista - Zeiterfassungen mit Excel
C3: Nimm Auvista - Fertige Excel-Anwendungen
C4: Zeiterfassung von mehreren Mitarbeitern in einer Tabelle - aus XZ400
C6: Zentrale | D6: Hier sind Sie gerade | E6: $ | F6: Preis/Kosten
C8: Urheber | D8: Hinweis zum Urheberrecht | E8: Dia-Zeit | F8: Zeit-Diagramm
C10: Dokumentation | D10: Beschreibung der Eingaben | E10: Dia-Geld | F10: Geld-Diagramm
C12: Allg. Angaben | D12: Allgemeine Angaben | E12: Rentabilität | F12: Leistungsvergleich
C14: Stundenerfassung | D14: Tagesleistung pro Mitarbeiter | E14: N | F14: Notizen - freies Blatt
A16: Nimm Auvista - Zeiterfassungen mit Excel
C17: Diese kostenlose Datei ist zum Testen zeitlich begrenzt bis 28.02.2027.
C18: Sie ist im Gegensatz zur erwerbbaren Datei für nur 6 Mitarbeiter frei
C19: geschaltet. Die Original-Datei in XZ400 ist ungeschützt, somit frei
C20: modifizierbar und lässt sich leicht auf viele Mitarbeiter erweitern.
E22: Mehr über den Inhalt von XZ400 auf:
E24: https://www.Auvista.de/XZ400.htm
C26: Die größte Sammlung an makrofreien deutschen Excel-Anwendungen
C27: für den professionellen Excel-Einsatz finden Sie im Internet unter https://www.Auvista.de.
C28: Unsere Excel-Anwendungen sind nach speziellen Kundenwünschen entwickelt und
C29: kompatibel von Excel 97 bis 2024 / 365 und höher. Wir freuen uns auf Ihren Besuch.
C31: Auvista Software Verlag
C32: Habacher Str. 1
C33: 81377 München
C34: ++49 / (0)89 / 98 29 05 73
C35: https://www.Auvista.de
C36: info@Auvista.de
C38: Nach oben
C40: Copyright © Auvista Fachverlag für Microsoft Excel, München 2026
... C45: Vervielfältigungen, Verbreitungen und Verarbeitungen in elektronischen Systemen.

Sheet Allg. Angaben
A1: Nimm Auvista - Zeiterfassungen mit Excel
C2: Zur Zentrale
E3: Angaben, die Sie auf diesem Blatt machen, werden auf den nachfolgenden Blättern eingeblendet bzw. eingerechnet.
E4: Die vorgegebenen Texte einfach löschen oder überschreiben.
C5: Firma | D5: » | E5: Obere Zeile in /Allg. Angaben/
C6: Name | D6: » | E6: Untere Zeile in /Allg. Angaben/
C7: Erster Tag | D7: » | E7: 46266
C8: Letzter Tag | D8: » | E8: 46295

Sheet Stundenerfassung
A1: Nimm Auvista - Zeiterfassungen mit Excel | B1: Nimm Auvista - Zeiterfassungen mit Excel | C1: Rechenhilfe!
C2: 0.35902778 | D2: <<< Rechenhilfe: Geleistete Zeit in Stunden, Doppelpunkt, Minuten eingeben | AH2: =IF('Allg. Angaben'!E5="","1e Datei aus XZ400",'Allg. Angaben'!E5) -> Obere Zeile in /Allg. Angaben/
C3: =IF(C2="","^ ^ ^ ^ h:min ^ ^ ^ ^",C2*24) -> 8.6166667 | D3: <<< entspricht der Zeitangabe in Dezimalzahlen | AH3: =IF('Allg. Angaben'!E6="","von Auvista",'Allg. Angaben'!E6) -> Untere Zeile in /Allg. Angaben/
C4: Zur Zentrale | E4: =IF('Allg. Angaben'!$E$7>46447,"Diese Datei ist zeitlich begrenzt bis 28. Februar 2027!","")
C7: Monat | D7: à | E7: =IF(E9="","",E9) -> 46266 | F7: =IF(F9="","",F9) -> 46267 | G7: =IF(G9="","",G9) -> 46268 | H7: =IF(H9="","",H9) -> 46269 | I7: =IF(I9="","",I9) -> 46270 | J7: =IF(J9="","",J9) -> 46271 | K7: =IF(K9="","",K9) -> 46272 | L7: =IF(L9="","",L9) -> 46273 | ... AN7: =IF(AN9="","",AN9)
C8: Kalendertage | D8: à | E8: =IF('Allg. Angaben'!$E$7="","",IF(ISTEXT('Allg. Angaben'!$E$7),"",'Allg. Angaben'!$E$7)) -> 46266 | F8: =IF(E$9="","",IF(E$9='Allg. Angaben'!$E$8,"",SUM(E$9+1))) -> 46267 | G8: =IF(F$9="","",IF(F$9='Allg. Angaben'!$E$8,"",SUM(F$9+1))) -> 46268 | H8: =IF(G$9="","",IF(G$9='Allg. Angaben'!$E$8,"",SUM(G$9+1))) -> 46269 | I8: =IF(H$9="","",IF(H$9='Allg. Angaben'!$E$8,"",SUM(H$9+1))) -> 46270 | J8: =IF(I$9="","",IF(I$9='Allg. Angaben'!$E$8,"",SUM(I$9+1))) -> 46271 | K8: =IF(J$9="","",IF(J$9='Allg. Angaben'!$E$8,"",SUM(J$9+1))) -> 46272 | L8: =IF(K$9="","",IF(K$9='Allg. Angaben'!$E$8,"",SUM(K$9+1))) -> 46273 | M8: =IF(L$9="","",IF(L$9='Allg. Angaben'!$E$8,"",SUM(L$9+1))) -> 46274 | ... AN8: =IF(AM$9="","",IF(AM$9='Allg. Angaben'!$E$8,"",SUM(AM$9+1)))
B9: Nr. | C9: Mitarbeiter | D9: â | E9: =IF('Allg. Angaben'!$E$7>46448,"XX",IF('Allg. Angaben'!$E$7="","",IF(ISTEXT('Allg. Angaben'!$E$7),"",'Allg. Angaben'!$E$7))) -> 46266 | F9: =IF(E$9="","",IF(E$9='Allg. Angaben'!$E$8,"",SUM(E$9+1))) -> 46267 | G9: =IF(F$9="","",IF(F$9='Allg. Angaben'!$E$8,"",SUM(F$9+1))) -> 46268 | H9: =IF(G$9="","",IF(G$9='Allg. Angaben'!$E$8,"",SUM(G$9+1))) -> 46269 | I9: =IF(H$9="","",IF(H$9='Allg. Angaben'!$E$8,"",SUM(H$9+1))) -> 46270 | J9: =IF(I$9="","",IF(I$9='Allg. Angaben'!$E$8,"",SUM(I$9+1))) -> 46271 | K9: =IF(J$9="","",IF(J$9='Allg. Angaben'!$E$8,"",SUM(J$9+1))) -> 46272 | L9: =IF(K$9="","",IF(K$9='Allg. Angaben'!$E$8,"",SUM(K$9+1))) -> 46273 | M9: =IF(L$9="","",IF(L$9='Allg. Angaben'!$E$8,"",SUM(L$9+1))) -> 46274 | ... AN9: =IF(AM$9="","",IF(AM$9='Allg. Angaben'!$E$8,"",SUM(AM$9+1))) | AO9: Std/Mitarbeiter
A10: Nimm Auvista - Zeiterfassungen mit Excel | B10: 1 | C10: Beispiel | D10: =IF(SUM(E10:AN10)=0,"",SUM(E10:AN10)/24) -> 0.10416667 | E10: 2.5 | AO10: =IF(SUM(E10:AN10)=0,"",SUM(E10:AN10)/24) -> 0.10416667
B11: 2 | C11: Müller | D11: =IF(SUM(E11:AN11)=0,"",SUM(E11:AN11)/24) -> 0.15625 | E11: 3.75 | AO11: =IF(SUM(E11:AN11)=0,"",SUM(E11:AN11)/24) -> 0.15625
B12: 3 | C12: Schmidt | D12: =IF(SUM(E12:AN12)=0,"",SUM(E12:AN12)/24) | AO12: =IF(SUM(E12:AN12)=0,"",SUM(E12:AN12)/24)
B13: 4 | C13: Maier | D13: =IF(SUM(E13:AN13)=0,"",SUM(E13:AN13)/24) | AO13: =IF(SUM(E13:AN13)=0,"",SUM(E13:AN13)/24)
B14: 5 | D14: =IF(SUM(E14:AN14)=0,"",SUM(E14:AN14)/24) | AO14: =IF(SUM(E14:AN14)=0,"",SUM(E14:AN14)/24)
B15: 6 | D15: =IF(SUM(E15:AN15)=0,"",SUM(E15:AN15)/24) | AO15: =IF(SUM(E15:AN15)=0,"",SUM(E15:AN15)/24)
B16: 7 | C16: Die mit XZ400
B17: 8 | C17: erwerbbaren Dateien
B18: 9 | C18: sind nicht begrenzt.
B19: 10
B20: 11
B21: 12
B22: 13
B23: 14
B24: 15
B25: 16
B26: 17
B27: 18
B28: 19
B29: 20
C30: Stunden pro Tag | D30: à | E30: =IF(SUM(E10:E15)=0,"",SUM(E10:E15)) -> 6.25 | F30: =IF(SUM(F10:F15)=0,"",SUM(F10:F15)) | G30: =IF(SUM(G10:G15)=0,"",SUM(G10:G15)) | H30: =IF(SUM(H10:H15)=0,"",SUM(H10:H15)) | I30: =IF(SUM(I10:I15)=0,"",SUM(I10:I15)) | J30: =IF(SUM(J10:J15)=0,"",SUM(J10:J15)) | K30: =IF(SUM(K10:K15)=0,"",SUM(K10:K15)) | L30: =IF(SUM(L10:L15)=0,"",SUM(L10:L15)) | ... AO30: =IF(SUM(AO10:AO15)=0,"",SUM(AO10:AO15)) -> 0.26041667 | AP30: Std
AP31: insgesamt
C32: =IF(COUNTA('Allg. Angaben'!$E$5,'Allg. Angaben'!$E$6)<1,"",CONCATENATE('Allg. Angaben'!$E$5," ",'Allg. Angaben'!$E$6)) -> Obere Zeile in /Allg. Angaben/ Untere Zeile in /Allg. Angaben/

Sheet $
A1: Nimm Auvista - Zeiterfassungen mit Excel | D1: Zur Zentrale
G2: Die Datei ist aus XZ400 vom Auvista Verlag.
C3: Einnahmen/Kosten pro Mitarbeiter im Erfassungszeitraum
C5: Nr. | D5: Name, Vorname | F5: Stunden | G5: Geld/Std | H5: Einnahmen/ Kosten | I5: Gehalt
C6: 1 | D6: =T(Stundenerfassung!$C10) -> Beispiel | F6: =(Stundenerfassung!$AO10) -> 0.10416667 | G6: 15 | H6: =IF(F6="","",IF(ISNUMBER(I6),I6,IF(G6="","",PRODUCT(F6,G6,24)))) -> 37.5
C7: 2 | D7: =T(Stundenerfassung!$C11) -> Müller | F7: =(Stundenerfassung!$AO11) -> 0.15625 | G7: 18 | H7: =IF(F7="","",IF(ISNUMBER(I7),I7,IF(G7="","",PRODUCT(F7,G7,24)))) -> 67.5
C8: 3 | D8: =T(Stundenerfassung!$C12) -> Schmidt | F8: =(Stundenerfassung!$AO12) | H8: =IF(F8="","",IF(ISNUMBER(I8),I8,IF(G8="","",PRODUCT(F8,G8,24))))
C9: 4 | D9: =T(Stundenerfassung!$C13) -> Maier | F9: =(Stundenerfassung!$AO13) | H9: =IF(F9="","",IF(ISNUMBER(I9),I9,IF(G9="","",PRODUCT(F9,G9,24))))
C10: 5 | D10: =T(Stundenerfassung!$C14) | F10: =(Stundenerfassung!$AO14) | H10: =IF(F10="","",IF(ISNUMBER(I10),I10,IF(G10="","",PRODUCT(F10,G10,24))))
C11: 6 | D11: =T(Stundenerfassung!$C15) | F11: =(Stundenerfassung!$AO15) | H11: =IF(F11="","",IF(ISNUMBER(I11),I11,IF(G11="","",PRODUCT(F11,G11,24))))
C12: 7 | D12: =T(Stundenerfassung!$C16) -> Die mit XZ400
C13: 8 | D13: =T(Stundenerfassung!$C17) -> erwerbbaren Dateien
C14: 9 | D14: =T(Stundenerfassung!$C18) -> sind nicht begrenzt.
C15: 10
C16: 11
C17: 12
C18: 13
C19: 14
C20: 15
C21: 16
C22: 17
C23: 18
C24: 19
C25: 20
C26: Eingesetzte Mitarbeiter | F26: Gesamtstunden | G26: =IF(F27=0,"",IF(H27="","","Schnitt/h")) -> Schnitt/h | H26: Einnahmen/Kosten
C27: =COUNT(F6:F11) -> 2 | F27: =SUM(F6:F11) -> 0.26041667 | G27: =IF(F27=0,"",IF(H27="","",H27/F27/24)) -> 16.8 | H27: =SUM(H6:H11) -> 105
D28: =T(Stundenerfassung!$C31)
C29: =IF(COUNTA('Allg. Angaben'!$E$5,'Allg. Angaben'!$E$6)<1,"",CONCATENATE('Allg. Angaben'!$E$5," ",'Allg. Angaben'!$E$6)) -> Obere Zeile in /Allg. Angaben/ Untere Zeile in /Allg. Angaben/ | H29: ='Allg. Angaben'!$E$7 -> 46266 | I29: bis | J29: =IF(OR(VALUE('Allg. Angaben'!$E$8)<H29,VALUE('Allg. Angaben'!$E$8)=H29),"36 Tage",VALUE('Allg. Angaben'!$E$8)) -> 46295

Sheet Dia-Zeit
A1: Nimm Auvista - Zeiterfassungen mit Excel | B1: Zur Zentrale
A32: =IF(COUNTA('Allg. Angaben'!$E$5,'Allg. Angaben'!$E$6)<1,"",CONCATENATE('Allg. Angaben'!$E$5," ",'Allg. Angaben'!$E$6)) -> Obere Zeile in /Allg. Angaben/ Untere Zeile in /Allg. Angaben/ | I32: Erfassungszeitraum von: | J32: =VALUE('Allg. Angaben'!$E$7) -> 46266 | K32: bis | L32: =IF(OR(VALUE('Allg. Angaben'!$E$8)<J32,VALUE('Allg. Angaben'!$E$8)=J32),"36 Tage",VALUE('Allg. Angaben'!$E$8)) -> 46295

Sheet Dia-Geld
A1: Nimm Auvista - Zeiterfassungen mit Excel | B1: Zur Zentrale
A32: =IF(COUNTA('Allg. Angaben'!$E$5,'Allg. Angaben'!$E$6)<1,"",CONCATENATE('Allg. Angaben'!$E$5," ",'Allg. Angaben'!$E$6)) -> Obere Zeile in /Allg. Angaben/ Untere Zeile in /Allg. Angaben/ | I32: Erfassungszeitraum von: | J32: =VALUE('Allg. Angaben'!$E$7) -> 46266 | K32: bis | L32: =IF(OR(VALUE('Allg. Angaben'!$E$8)<J32,VALUE('Allg. Angaben'!$E$8)=J32),"36 Tage",VALUE('Allg. Angaben'!$E$8)) -> 46295

Sheet Rentabilität
A1: Nimm Auvista - Zeiterfassungen mit Excel | B1: Zur Zentrale
A33: =IF(COUNTA('Allg. Angaben'!$E$5,'Allg. Angaben'!$E$6)<1,"",CONCATENATE('Allg. Angaben'!$E$5," ",'Allg. Angaben'!$E$6)) -> Obere Zeile in /Allg. Angaben/ Untere Zeile in /Allg. Angaben/ | I33: Erfassungszeitraum von: | J33: =VALUE('Allg. Angaben'!$E$7) -> 46266 | K33: bis | L33: =IF(OR(VALUE('Allg. Angaben'!$E$8)<J33,VALUE('Allg. Angaben'!$E$8)=J33),"36 Tage",VALUE('Allg. Angaben'!$E$8)) -> 46295

Sheet N
B1: Zentrale
A2: Freies Blatt für eigene Eintragungen

Sheet Dokumentation
A1: Nimm Auvista - Zeiterfassungen mit Excel | C1: Zentrale | E1: Dokumentation
E3: Zeiterfassung von mehreren Mitarbeitern in einer Datei aus XZ400
A5: Nimm Auvista - Zeiterfassungen mit Excel
C6: B | E6: Beschreibung: Das Wichtigste zuerst
E8: In dieser Datei gibt es vier Grundregeln zu beachten:
D10: 1. | E10: Datumseingabe: 20.3
E11: Tageszahl, Punkt, Monatszahl
E12: Die Felder sind auf diese Eingaben formatiert.
D14: 2. | E14: Stundeneingabe: 1,5
E15: Stunden als Dezimalzahlen eingeben, hier nicht in Stunden und Minuten.
E16: 0,75 wäre in dieser Datei somit eine dreiviertel Stunde.
E17: Am Bildschirm werden in der Tabelle nur gerundete Zahlen dargestellt.
E18: Bei der Berechnung und auf den Ausdrucken werden jedoch die Nach-
E19: kommastellen berücksichtigt.
D21: 3. | E21: Eingaben nie verschieben, wenn Sie sich vertippt haben.
E22: Überschreiben Sie die Eingaben oder, falls Sie in das falsche Feld
E23: eingetragen haben, löschen Sie die Zahl und tragen sie in das
E24: richtige Feld ein. Excel verliert sonst die Feldbezüge.
E26: Sollten sich die Bezüge bereits verloren haben, Sie sehen dann #Bezug!
E27: in den entsprechenden Feldern, dann machen Sie entweder den Vorgang
E28: rückgängig, oder Sie drucken das bestehende Zwischenergebnis aus und
E29: laden sich diese Datei neu von der CD oder aus Ihrer Sicherung.
D31: 4. | E31: Eintragungen sind nur in den weißen Feldern vorgesehen.
E32: Befinden sich bereits Texte in den Zellen, löschen oder überschreiben Sie diese.
C34: Zentrale | E34: Zentrales Blatt, von dem aus man in alle anderen Tabellen dieser
E35: Datei springen kann.
C37: Allg. Angaben | E37: In diesem Blatt können Sie die Firmenbezeichnung und Ihren Namen
E38: eingeben. Beide Angaben werden somit automatisch in den anderen
E39: Blättern eingetragen. Im dritten Feld geben Sie das Anfangsdatum des
E40: Erfassungszeitraumes an, im vierten Feld das letzte Datum. In den
E41: nachfolgenden Blättern werden die Monatstage daraus errechnet.
C43: Stundenerfassung | E43: Monat | F43: In dieser Zeile errechnet sich die Monatszahl nach
F44: der Datumsangabe auf dem Angabenblatt A.
E45: Kalendertage | F45: In dieser Zeile errechnen sich die Kalendertage nach
F46: der Datumsangabe auf dem Angabenblatt A.
E47: Mitarbeiter | F47: Die Namen, die Sie hier eingeben, werden
F48: auf allen Diagrammen mit eingeblendet.
E49: Stunden pro Tag | F49: Die auf den jeweiligen Tag bezogene Summe
F50: der eingetragenen Mitarbeiterstunden.
E51: Std/Mitarbeiter | F51: Die auf den jeweiligen Mitarbeiter bezogene Summe
...
